BEGIN:VCALENDAR
VERSION:2.0
PRODID:-//StreamRadar//Match Calendar//EN
CALSCALE:GREGORIAN
METHOD:PUBLISH
X-WR-CALNAME:HJS Akatemia vs P-Iirot
X-WR-TIMEZONE:America/New_York
BEGIN:VEVENT
UID:match-5616978@streamradar.soccer
SUMMARY:HJS Akatemia vs P-Iirot
DTSTAMP:20260419T122109Z
DTSTART;TZID=America/New_York:20260425T100000
DTEND;TZID=America/New_York:20260425T120000
LOCATION:Kaurialan kenttä (Hämeenlinna (Tavastehus))
DESCRIPTION:Gdzie oglądać HJS Akatemia vs P-Iirot w Finlandia - Kakkonen.
  Transmisja na żywo i program TV.\nhttps://streamradar.soccer/pl/match/561
 6978/hjs-akatemia-vs-p-iirot/
URL;VALUE=URI:https://streamradar.soccer/pl/match/5616978/hjs-akatemia-vs-p
 -iirot/
STATUS:CONFIRMED
END:VEVENT
END:VCALENDAR
