BEGIN:VCALENDAR
VERSION:2.0
PRODID:-//StreamRadar//Match Calendar//EN
CALSCALE:GREGORIAN
METHOD:PUBLISH
X-WR-CALNAME:Mekelle 70 Enderta vs Ethiopian Insurance
X-WR-TIMEZONE:America/New_York
BEGIN:VEVENT
UID:match-5616931@streamradar.soccer
SUMMARY:Mekelle 70 Enderta vs Ethiopian Insurance
DTSTAMP:20260421T063149Z
DTSTART;TZID=America/New_York:20260515T060000
DTEND;TZID=America/New_York:20260515T080000
DESCRIPTION:Gdzie oglądać Mekelle 70 Enderta vs Ethiopian Insurance w Eti
 opia - Premier League. Transmisja na żywo i program TV.\nhttps://streamrad
 ar.soccer/pl/match/5616931/mekelle-70-enderta-vs-ethiopian-insurance/
URL;VALUE=URI:https://streamradar.soccer/pl/match/5616931/mekelle-70-endert
 a-vs-ethiopian-insurance/
STATUS:CONFIRMED
END:VEVENT
END:VCALENDAR
