BEGIN:VCALENDAR
VERSION:2.0
PRODID:-//StreamRadar//Match Calendar//EN
CALSCALE:GREGORIAN
METHOD:PUBLISH
X-WR-CALNAME:Van vs Shirak
X-WR-TIMEZONE:America/New_York
BEGIN:VEVENT
UID:match-5616876@streamradar.soccer
SUMMARY:Van vs Shirak
DTSTAMP:20260419T121636Z
DTSTART;TZID=America/New_York:20260508T070000
DTEND;TZID=America/New_York:20260508T090000
LOCATION:Charentsavan City Stadium
DESCRIPTION:Gdzie oglądać Van vs Shirak w Liga Ormiańska. Transmisja na 
 żywo i program TV.\nhttps://streamradar.soccer/pl/match/5616876/van-vs-shi
 rak/
URL;VALUE=URI:https://streamradar.soccer/pl/match/5616876/van-vs-shirak/
STATUS:CONFIRMED
END:VEVENT
END:VCALENDAR
