BEGIN:VCALENDAR
VERSION:2.0
PRODID:-//StreamRadar//Match Calendar//EN
CALSCALE:GREGORIAN
METHOD:PUBLISH
X-WR-CALNAME:Nacional Asunción vs Deportivo Recoleta
X-WR-TIMEZONE:America/New_York
BEGIN:VEVENT
UID:match-5616843@streamradar.soccer
SUMMARY:Nacional Asunción vs Deportivo Recoleta
DTSTAMP:20260419T122712Z
DTSTART;TZID=America/New_York:20260424T164500
DTEND;TZID=America/New_York:20260424T184500
LOCATION:Estadio Arsenio Erico
DESCRIPTION:Gdzie oglądać Nacional Asunción vs Deportivo Recoleta w Para
 gwaj - Primera División Paraguay. Transmisja na żywo i program TV.\nhttps
 ://streamradar.soccer/pl/match/5616843/nacional-asuncion-vs-deportivo-recol
 eta/
URL;VALUE=URI:https://streamradar.soccer/pl/match/5616843/nacional-asuncion
 -vs-deportivo-recoleta/
STATUS:CONFIRMED
END:VEVENT
END:VCALENDAR
