BEGIN:VCALENDAR
VERSION:2.0
PRODID:-//StreamRadar//Match Calendar//EN
CALSCALE:GREGORIAN
METHOD:PUBLISH
X-WR-CALNAME:Montana vs Spartak Varna
X-WR-TIMEZONE:America/New_York
BEGIN:VEVENT
UID:match-5616838@streamradar.soccer
SUMMARY:Montana vs Spartak Varna
DTSTAMP:20260419T122420Z
DTSTART;TZID=America/New_York:20260516T110000
DTEND;TZID=America/New_York:20260516T130000
LOCATION:Ogosta Stadium
DESCRIPTION:Gdzie oglądać Montana vs Spartak Varna w Bułgaria - Parva Li
 ga. Transmisja na żywo i program TV.\nhttps://streamradar.soccer/pl/match/
 5616838/montana-vs-spartak-varna/
URL;VALUE=URI:https://streamradar.soccer/pl/match/5616838/montana-vs-sparta
 k-varna/
STATUS:CONFIRMED
END:VEVENT
END:VCALENDAR
