BEGIN:VCALENDAR
VERSION:2.0
PRODID:-//StreamRadar//Match Calendar//EN
CALSCALE:GREGORIAN
METHOD:PUBLISH
X-WR-CALNAME:Botev Plovdiv vs Cherno More
X-WR-TIMEZONE:America/New_York
BEGIN:VEVENT
UID:match-5616804@streamradar.soccer
SUMMARY:Botev Plovdiv vs Cherno More
DTSTAMP:20260419T122109Z
DTSTART;TZID=America/New_York:20260516T110000
DTEND;TZID=America/New_York:20260516T130000
LOCATION:Stadion Hristo Botev
DESCRIPTION:Gdzie oglądać Botev Plovdiv vs Cherno More w Bułgaria - Parv
 a Liga. Transmisja na żywo i program TV.\nhttps://streamradar.soccer/pl/ma
 tch/5616804/botev-plovdiv-vs-cherno-more/
URL;VALUE=URI:https://streamradar.soccer/pl/match/5616804/botev-plovdiv-vs-
 cherno-more/
STATUS:CONFIRMED
END:VEVENT
END:VCALENDAR
