BEGIN:VCALENDAR
VERSION:2.0
PRODID:-//StreamRadar//Match Calendar//EN
CALSCALE:GREGORIAN
METHOD:PUBLISH
X-WR-CALNAME:Valur vs FH
X-WR-TIMEZONE:America/New_York
BEGIN:VEVENT
UID:match-5616579@streamradar.soccer
SUMMARY:Valur vs FH
DTSTAMP:20260423T140549Z
DTSTART;TZID=America/New_York:20260423T151500
DTEND;TZID=America/New_York:20260423T171500
LOCATION:Kaplakriki
DESCRIPTION:Gdzie oglądać Valur vs FH w Islandia - Besta deild karla. Tra
 nsmisja na żywo i program TV.\nhttps://streamradar.soccer/pl/match/5616579
 /valur-vs-fh/
URL;VALUE=URI:https://streamradar.soccer/pl/match/5616579/valur-vs-fh/
STATUS:CONFIRMED
END:VEVENT
END:VCALENDAR
