BEGIN:VCALENDAR
VERSION:2.0
PRODID:-//StreamRadar//Match Calendar//EN
CALSCALE:GREGORIAN
METHOD:PUBLISH
X-WR-CALNAME:FC Helsingør vs Skive
X-WR-TIMEZONE:America/New_York
BEGIN:VEVENT
UID:match-5616265@streamradar.soccer
SUMMARY:FC Helsingør vs Skive
DTSTAMP:20260421T050410Z
DTSTART;TZID=America/New_York:20260517T070000
DTEND;TZID=America/New_York:20260517T090000
DESCRIPTION:Gdzie oglądać FC Helsingør vs Skive w Dania - Duńska 2. div
 ision. Transmisja na żywo i program TV.\nhttps://streamradar.soccer/pl/mat
 ch/5616265/fc-helsingor-vs-skive/
URL;VALUE=URI:https://streamradar.soccer/pl/match/5616265/fc-helsingor-vs-s
 kive/
STATUS:CONFIRMED
END:VEVENT
END:VCALENDAR
