BEGIN:VCALENDAR
VERSION:2.0
PRODID:-//StreamRadar//Match Calendar//EN
CALSCALE:GREGORIAN
METHOD:PUBLISH
X-WR-CALNAME:Aerostar Bacău vs Bucovina Rădăuţi
X-WR-TIMEZONE:America/New_York
BEGIN:VEVENT
UID:match-5615541@streamradar.soccer
SUMMARY:Aerostar Bacău vs Bucovina Rădăuţi
DTSTAMP:20260421T092522Z
DTSTART;TZID=America/New_York:20260516T110000
DTEND;TZID=America/New_York:20260516T130000
DESCRIPTION:Gdzie oglądać Aerostar Bacău vs Bucovina Rădăuţi w Rumuni
 a - Liga III. Transmisja na żywo i program TV.\nhttps://streamradar.soccer
 /pl/match/5615541/aerostar-bac-u-vs-bucovina-r-d-u-i/
URL;VALUE=URI:https://streamradar.soccer/pl/match/5615541/aerostar-bac-u-vs
 -bucovina-r-d-u-i/
STATUS:CONFIRMED
END:VEVENT
END:VCALENDAR
