BEGIN:VCALENDAR
VERSION:2.0
PRODID:-//StreamRadar//Match Calendar//EN
CALSCALE:GREGORIAN
METHOD:PUBLISH
X-WR-CALNAME:Astrakhan vs Pobeda
X-WR-TIMEZONE:America/New_York
BEGIN:VEVENT
UID:match-5615518@streamradar.soccer
SUMMARY:Astrakhan vs Pobeda
DTSTAMP:20260421T075818Z
DTSTART;TZID=America/New_York:20260516T090000
DTEND;TZID=America/New_York:20260516T110000
DESCRIPTION:Gdzie oglądać Astrakhan vs Pobeda w Rosja - FNL 2. Transmisja
  na żywo i program TV.\nhttps://streamradar.soccer/pl/match/5615518/astrak
 han-vs-pobeda/
URL;VALUE=URI:https://streamradar.soccer/pl/match/5615518/astrakhan-vs-pobe
 da/
STATUS:CONFIRMED
END:VEVENT
END:VCALENDAR
