BEGIN:VCALENDAR
VERSION:2.0
PRODID:-//StreamRadar//Match Calendar//EN
CALSCALE:GREGORIAN
METHOD:PUBLISH
X-WR-CALNAME:Des Moines Menace vs Santafé Wanderers
X-WR-TIMEZONE:America/New_York
BEGIN:VEVENT
UID:match-5615475@streamradar.soccer
SUMMARY:Des Moines Menace vs Santafé Wanderers
DTSTAMP:20260421T092412Z
DTSTART;TZID=America/New_York:20260515T200000
DTEND;TZID=America/New_York:20260515T220000
DESCRIPTION:Gdzie oglądać Des Moines Menace vs Santafé Wanderers w USL L
 eague Two. Transmisja na żywo i program TV.\nhttps://streamradar.soccer/pl
 /match/5615475/des-moines-menace-vs-santafe-wanderers/
URL;VALUE=URI:https://streamradar.soccer/pl/match/5615475/des-moines-menace
 -vs-santafe-wanderers/
STATUS:CONFIRMED
END:VEVENT
END:VCALENDAR
