BEGIN:VCALENDAR
VERSION:2.0
PRODID:-//StreamRadar//Match Calendar//EN
CALSCALE:GREGORIAN
METHOD:PUBLISH
X-WR-CALNAME:Mali Coura vs Stade Malien Bamako
X-WR-TIMEZONE:America/New_York
BEGIN:VEVENT
UID:match-5615462@streamradar.soccer
SUMMARY:Mali Coura vs Stade Malien Bamako
DTSTAMP:20260421T104447Z
DTSTART;TZID=America/New_York:20260514T123000
DTEND;TZID=America/New_York:20260514T143000
DESCRIPTION:Gdzie oglądać Mali Coura vs Stade Malien Bamako w Mali - Prem
 ière Division Malijska. Transmisja na żywo i program TV.\nhttps://streamr
 adar.soccer/pl/match/5615462/mali-coura-vs-stade-malien-bamako/
URL;VALUE=URI:https://streamradar.soccer/pl/match/5615462/mali-coura-vs-sta
 de-malien-bamako/
STATUS:CONFIRMED
END:VEVENT
END:VCALENDAR
