BEGIN:VCALENDAR
VERSION:2.0
PRODID:-//StreamRadar//Match Calendar//EN
CALSCALE:GREGORIAN
METHOD:PUBLISH
X-WR-CALNAME:USFAS Bamako vs Afrique Football Élite
X-WR-TIMEZONE:America/New_York
BEGIN:VEVENT
UID:match-5615449@streamradar.soccer
SUMMARY:USFAS Bamako vs Afrique Football Élite
DTSTAMP:20260421T080829Z
DTSTART;TZID=America/New_York:20260503T143000
DTEND;TZID=America/New_York:20260503T163000
DESCRIPTION:Gdzie oglądać USFAS Bamako vs Afrique Football Élite w Mali 
 - Première Division Malijska. Transmisja na żywo i program TV.\nhttps://s
 treamradar.soccer/pl/match/5615449/usfas-bamako-vs-afrique-football-elite/
URL;VALUE=URI:https://streamradar.soccer/pl/match/5615449/usfas-bamako-vs-a
 frique-football-elite/
STATUS:CONFIRMED
END:VEVENT
END:VCALENDAR
