BEGIN:VCALENDAR
VERSION:2.0
PRODID:-//StreamRadar//Match Calendar//EN
CALSCALE:GREGORIAN
METHOD:PUBLISH
X-WR-CALNAME:Derby Academie vs Stade Malien Bamako
X-WR-TIMEZONE:America/New_York
BEGIN:VEVENT
UID:match-5615437@streamradar.soccer
SUMMARY:Derby Academie vs Stade Malien Bamako
DTSTAMP:20260421T072951Z
DTSTART;TZID=America/New_York:20260425T123000
DTEND;TZID=America/New_York:20260425T143000
DESCRIPTION:Gdzie oglądać Derby Academie vs Stade Malien Bamako w Mali - 
 Première Division Malijska. Transmisja na żywo i program TV.\nhttps://str
 eamradar.soccer/pl/match/5615437/derby-academie-vs-stade-malien-bamako/
URL;VALUE=URI:https://streamradar.soccer/pl/match/5615437/derby-academie-vs
 -stade-malien-bamako/
STATUS:CONFIRMED
END:VEVENT
END:VCALENDAR
