BEGIN:VCALENDAR
VERSION:2.0
PRODID:-//StreamRadar//Match Calendar//EN
CALSCALE:GREGORIAN
METHOD:PUBLISH
X-WR-CALNAME:Retrô vs Decisão
X-WR-TIMEZONE:America/New_York
BEGIN:VEVENT
UID:match-5615416@streamradar.soccer
SUMMARY:Retrô vs Decisão
DTSTAMP:20260421T075931Z
DTSTART;TZID=America/New_York:20260516T160000
DTEND;TZID=America/New_York:20260516T180000
LOCATION:Arena Pernambuco
DESCRIPTION:Gdzie oglądać Retrô vs Decisão w Brazylia - Serie D w Brazy
 lii. Transmisja na żywo i program TV.\nhttps://streamradar.soccer/pl/match
 /5615416/retro-vs-decisao/
URL;VALUE=URI:https://streamradar.soccer/pl/match/5615416/retro-vs-decisao/
STATUS:CONFIRMED
END:VEVENT
END:VCALENDAR
