BEGIN:VCALENDAR
VERSION:2.0
PRODID:-//StreamRadar//Match Calendar//EN
CALSCALE:GREGORIAN
METHOD:PUBLISH
X-WR-CALNAME:Primavera MG vs Luverdense
X-WR-TIMEZONE:America/New_York
BEGIN:VEVENT
UID:match-5615414@streamradar.soccer
SUMMARY:Primavera MG vs Luverdense
DTSTAMP:20260421T104125Z
DTSTART;TZID=America/New_York:20260516T160000
DTEND;TZID=America/New_York:20260516T180000
DESCRIPTION:Gdzie oglądać Primavera MG vs Luverdense w Brazylia - Serie D
  w Brazylii. Transmisja na żywo i program TV.\nhttps://streamradar.soccer/
 pl/match/5615414/primavera-mg-vs-luverdense/
URL;VALUE=URI:https://streamradar.soccer/pl/match/5615414/primavera-mg-vs-l
 uverdense/
STATUS:CONFIRMED
END:VEVENT
END:VCALENDAR
