BEGIN:VCALENDAR
VERSION:2.0
PRODID:-//StreamRadar//Match Calendar//EN
CALSCALE:GREGORIAN
METHOD:PUBLISH
X-WR-CALNAME:Inhumas vs Aparecidense
X-WR-TIMEZONE:America/New_York
BEGIN:VEVENT
UID:match-5615399@streamradar.soccer
SUMMARY:Inhumas vs Aparecidense
DTSTAMP:20260421T092137Z
DTSTART;TZID=America/New_York:20260516T160000
DTEND;TZID=America/New_York:20260516T180000
DESCRIPTION:Gdzie oglądać Inhumas vs Aparecidense w Brazylia - Serie D w 
 Brazylii. Transmisja na żywo i program TV.\nhttps://streamradar.soccer/pl/
 match/5615399/inhumas-vs-aparecidense/
URL;VALUE=URI:https://streamradar.soccer/pl/match/5615399/inhumas-vs-aparec
 idense/
STATUS:CONFIRMED
END:VEVENT
END:VCALENDAR
