BEGIN:VCALENDAR
VERSION:2.0
PRODID:-//StreamRadar//Match Calendar//EN
CALSCALE:GREGORIAN
METHOD:PUBLISH
X-WR-CALNAME:Galvez vs Humaitá
X-WR-TIMEZONE:America/New_York
BEGIN:VEVENT
UID:match-5615395@streamradar.soccer
SUMMARY:Galvez vs Humaitá
DTSTAMP:20260421T092051Z
DTSTART;TZID=America/New_York:20260516T160000
DTEND;TZID=America/New_York:20260516T180000
DESCRIPTION:Gdzie oglądać Galvez vs Humaitá w Brazylia - Serie D w Brazy
 lii. Transmisja na żywo i program TV.\nhttps://streamradar.soccer/pl/match
 /5615395/galvez-vs-humaita/
URL;VALUE=URI:https://streamradar.soccer/pl/match/5615395/galvez-vs-humaita
 /
STATUS:CONFIRMED
END:VEVENT
END:VCALENDAR
