BEGIN:VCALENDAR
VERSION:2.0
PRODID:-//StreamRadar//Match Calendar//EN
CALSCALE:GREGORIAN
METHOD:PUBLISH
X-WR-CALNAME:Brasil de Pelotas vs EC São José
X-WR-TIMEZONE:America/New_York
BEGIN:VEVENT
UID:match-5615388@streamradar.soccer
SUMMARY:Brasil de Pelotas vs EC São José
DTSTAMP:20260421T092428Z
DTSTART;TZID=America/New_York:20260516T160000
DTEND;TZID=America/New_York:20260516T180000
DESCRIPTION:Gdzie oglądać Brasil De Pelotas vs EC São José w Brazylia -
  Serie D w Brazylii. Transmisja na żywo i program TV.\nhttps://streamradar
 .soccer/pl/match/5615388/brasil-de-pelotas-vs-ec-sao-jose/
URL;VALUE=URI:https://streamradar.soccer/pl/match/5615388/brasil-de-pelotas
 -vs-ec-sao-jose/
STATUS:CONFIRMED
END:VEVENT
END:VCALENDAR
