BEGIN:VCALENDAR
VERSION:2.0
PRODID:-//StreamRadar//Match Calendar//EN
CALSCALE:GREGORIAN
METHOD:PUBLISH
X-WR-CALNAME:Radnik Surdulica vs Crvena Zvezda
X-WR-TIMEZONE:America/New_York
BEGIN:VEVENT
UID:match-5615328@streamradar.soccer
SUMMARY:Radnik Surdulica vs Crvena Zvezda
DTSTAMP:20260421T104525Z
DTSTART;TZID=America/New_York:20260516T130000
DTEND;TZID=America/New_York:20260516T150000
LOCATION:EFBET Stadion
DESCRIPTION:Gdzie oglądać Radnik Surdulica vs Crvena Zvezda w Serbia - Su
 per Liga. Transmisja na żywo i program TV.\nhttps://streamradar.soccer/pl/
 match/5615328/radnik-surdulica-vs-crvena-zvezda/
URL;VALUE=URI:https://streamradar.soccer/pl/match/5615328/radnik-surdulica-
 vs-crvena-zvezda/
STATUS:CONFIRMED
END:VEVENT
END:VCALENDAR
