BEGIN:VCALENDAR
VERSION:2.0
PRODID:-//StreamRadar//Match Calendar//EN
CALSCALE:GREGORIAN
METHOD:PUBLISH
X-WR-CALNAME:Maccabi Bnei Raina vs Maccabi Netanya
X-WR-TIMEZONE:America/New_York
BEGIN:VEVENT
UID:match-5615321@streamradar.soccer
SUMMARY:Maccabi Bnei Raina vs Maccabi Netanya
DTSTAMP:20260421T063154Z
DTSTART;TZID=America/New_York:20260516T130000
DTEND;TZID=America/New_York:20260516T150000
LOCATION:Green Stadium
DESCRIPTION:Gdzie oglądać Maccabi Bnei Raina vs Maccabi Netanya w Izrael 
 - Ligat Ha'Al. Transmisja na żywo i program TV.\nhttps://streamradar.socce
 r/pl/match/5615321/maccabi-bnei-raina-vs-maccabi-netanya/
URL;VALUE=URI:https://streamradar.soccer/pl/match/5615321/maccabi-bnei-rain
 a-vs-maccabi-netanya/
STATUS:CONFIRMED
END:VEVENT
END:VCALENDAR
