BEGIN:VCALENDAR
VERSION:2.0
PRODID:-//StreamRadar//Match Calendar//EN
CALSCALE:GREGORIAN
METHOD:PUBLISH
X-WR-CALNAME:Karfamoriah vs Ashanti GB
X-WR-TIMEZONE:America/New_York
BEGIN:VEVENT
UID:match-5614806@streamradar.soccer
SUMMARY:Karfamoriah vs Ashanti GB
DTSTAMP:20260421T165353Z
DTSTART;TZID=America/New_York:20260417T120000
DTEND;TZID=America/New_York:20260417T140000
DESCRIPTION:Gdzie oglądać Karfamoriah vs Ashanti GB w Gwinea - Ligue 1. T
 ransmisja na żywo i program TV.\nhttps://streamradar.soccer/pl/match/56148
 06/karfamoriah-vs-ashanti-gb/
URL;VALUE=URI:https://streamradar.soccer/pl/match/5614806/karfamoriah-vs-as
 hanti-gb/
STATUS:CONFIRMED
END:VEVENT
END:VCALENDAR
