BEGIN:VCALENDAR
VERSION:2.0
PRODID:-//StreamRadar//Match Calendar//EN
CALSCALE:GREGORIAN
METHOD:PUBLISH
X-WR-CALNAME:La Linguère vs Pikine
X-WR-TIMEZONE:America/New_York
BEGIN:VEVENT
UID:match-5614750@streamradar.soccer
SUMMARY:La Linguère vs Pikine
DTSTAMP:20260421T080717Z
DTSTART;TZID=America/New_York:20260419T130000
DTEND;TZID=America/New_York:20260419T150000
LOCATION:Stade Mawade Wade (Saint-Louis)
DESCRIPTION:Gdzie oglądać La Linguère vs Pikine w Senegal - Premier Leag
 ue. Transmisja na żywo i program TV.\nhttps://streamradar.soccer/pl/match/
 5614750/la-linguere-vs-pikine/
URL;VALUE=URI:https://streamradar.soccer/pl/match/5614750/la-linguere-vs-pi
 kine/
STATUS:CONFIRMED
END:VEVENT
END:VCALENDAR
