BEGIN:VCALENDAR
VERSION:2.0
PRODID:-//StreamRadar//Match Calendar//EN
CALSCALE:GREGORIAN
METHOD:PUBLISH
X-WR-CALNAME:Llapi vs Prishtina
X-WR-TIMEZONE:America/New_York
BEGIN:VEVENT
UID:match-5614656@streamradar.soccer
SUMMARY:Llapi vs Prishtina
DTSTAMP:20260421T103932Z
DTSTART;TZID=America/New_York:20260418T090000
DTEND;TZID=America/New_York:20260418T110000
LOCATION:Stadiumi Zahir Pajaziti (Podujevë (Besiana\, Podujevo))
DESCRIPTION:Gdzie oglądać Llapi vs Prishtina w Kosowo - Superliga Kosowa.
  Transmisja na żywo i program TV.\nhttps://streamradar.soccer/pl/match/561
 4656/llapi-vs-prishtina/
URL;VALUE=URI:https://streamradar.soccer/pl/match/5614656/llapi-vs-prishtin
 a/
STATUS:CONFIRMED
END:VEVENT
END:VCALENDAR
