BEGIN:VCALENDAR
VERSION:2.0
PRODID:-//StreamRadar//Match Calendar//EN
CALSCALE:GREGORIAN
METHOD:PUBLISH
X-WR-CALNAME:San Marcos vs Deportivo Llacuabamba
X-WR-TIMEZONE:America/New_York
BEGIN:VEVENT
UID:match-5614632@streamradar.soccer
SUMMARY:San Marcos vs Deportivo Llacuabamba
DTSTAMP:20260421T092510Z
DTSTART;TZID=America/New_York:20260502T161500
DTEND;TZID=America/New_York:20260502T181500
DESCRIPTION:Gdzie oglądać San Marcos vs Deportivo Llacuabamba w Peru - Se
 gunda División Peru. Transmisja na żywo i program TV.\nhttps://streamrada
 r.soccer/pl/match/5614632/san-marcos-vs-deportivo-llacuabamba/
URL;VALUE=URI:https://streamradar.soccer/pl/match/5614632/san-marcos-vs-dep
 ortivo-llacuabamba/
STATUS:CONFIRMED
END:VEVENT
END:VCALENDAR
