BEGIN:VCALENDAR
VERSION:2.0
PRODID:-//StreamRadar//Match Calendar//EN
CALSCALE:GREGORIAN
METHOD:PUBLISH
X-WR-CALNAME:César Vallejo vs Carlos Manucci
X-WR-TIMEZONE:America/New_York
BEGIN:VEVENT
UID:match-5614630@streamradar.soccer
SUMMARY:César Vallejo vs Carlos Manucci
DTSTAMP:20260421T062202Z
DTSTART;TZID=America/New_York:20260502T140000
DTEND;TZID=America/New_York:20260502T160000
DESCRIPTION:Gdzie oglądać César Vallejo vs Carlos Manucci w Peru - Segun
 da División Peru. Transmisja na żywo i program TV.\nhttps://streamradar.s
 occer/pl/match/5614630/cesar-vallejo-vs-carlos-manucci/
URL;VALUE=URI:https://streamradar.soccer/pl/match/5614630/cesar-vallejo-vs-
 carlos-manucci/
STATUS:CONFIRMED
END:VEVENT
END:VCALENDAR
