BEGIN:VCALENDAR
VERSION:2.0
PRODID:-//StreamRadar//Match Calendar//EN
CALSCALE:GREGORIAN
METHOD:PUBLISH
X-WR-CALNAME:Khan Shaykhun vs Al Ittihad
X-WR-TIMEZONE:America/New_York
BEGIN:VEVENT
UID:match-5614604@streamradar.soccer
SUMMARY:Khan Shaykhun vs Al Ittihad
DTSTAMP:20260421T135919Z
DTSTART;TZID=America/New_York:20260417T080000
DTEND;TZID=America/New_York:20260417T100000
DESCRIPTION:Gdzie oglądać Khan Shaykhun vs Al Ittihad w Syria - Premier L
 eague. Transmisja na żywo i program TV.\nhttps://streamradar.soccer/pl/mat
 ch/5614604/khan-shaykhun-vs-al-ittihad/
URL;VALUE=URI:https://streamradar.soccer/pl/match/5614604/khan-shaykhun-vs-
 al-ittihad/
STATUS:CONFIRMED
END:VEVENT
END:VCALENDAR
