BEGIN:VCALENDAR
VERSION:2.0
PRODID:-//StreamRadar//Match Calendar//EN
CALSCALE:GREGORIAN
METHOD:PUBLISH
X-WR-CALNAME:St. Louis City vs Los Angeles FC
X-WR-TIMEZONE:America/New_York
BEGIN:VEVENT
UID:match-5613836@streamradar.soccer
SUMMARY:St. Louis City vs Los Angeles FC
DTSTAMP:20260421T082929Z
DTSTART;TZID=America/New_York:20260513T203000
DTEND;TZID=America/New_York:20260513T223000
LOCATION:CITYPARK
DESCRIPTION:Gdzie oglądać St. Louis City vs Los Angeles FC w Major League
  Soccer. Transmisja na żywo i program TV.\nhttps://streamradar.soccer/pl/m
 atch/5613836/st-louis-city-vs-los-angeles-fc/
URL;VALUE=URI:https://streamradar.soccer/pl/match/5613836/st-louis-city-vs-
 los-angeles-fc/
STATUS:CONFIRMED
END:VEVENT
END:VCALENDAR
