BEGIN:VCALENDAR
VERSION:2.0
PRODID:-//StreamRadar//Match Calendar//EN
CALSCALE:GREGORIAN
METHOD:PUBLISH
X-WR-CALNAME:KA vs Ã†gir
X-WR-TIMEZONE:America/New_York
BEGIN:VEVENT
UID:match-5613077@streamradar.soccer
SUMMARY:KA vs Ã†gir
DTSTAMP:20260421T103955Z
DTSTART;TZID=America/New_York:20260514T100000
DTEND;TZID=America/New_York:20260514T120000
DESCRIPTION:Gdzie oglÄ…daÄ‡ KA vs Ã†gir w MjÃ³lkurbikarinn. Transmisja na Å
 ¼ywo i program TV.\nhttps://streamradar.soccer/pl/match/5613077/ka-vs-agir/
URL;VALUE=URI:https://streamradar.soccer/pl/match/5613077/ka-vs-agir/
STATUS:CONFIRMED
END:VEVENT
END:VCALENDAR
