BEGIN:VCALENDAR
VERSION:2.0
PRODID:-//StreamRadar//Match Calendar//EN
CALSCALE:GREGORIAN
METHOD:PUBLISH
X-WR-CALNAME:Hearts vs Falkirk
X-WR-TIMEZONE:America/New_York
BEGIN:VEVENT
UID:match-5612999@streamradar.soccer
SUMMARY:Hearts vs Falkirk
DTSTAMP:20260421T092254Z
DTSTART;TZID=America/New_York:20260513T150000
DTEND;TZID=America/New_York:20260513T170000
LOCATION:Tynecastle Park
DESCRIPTION:Gdzie oglądać Hearts vs Falkirk w Scottish Premiership. Trans
 misja na żywo i program TV.\nhttps://streamradar.soccer/pl/match/5612999/h
 earts-vs-falkirk/
URL;VALUE=URI:https://streamradar.soccer/pl/match/5612999/hearts-vs-falkirk
 /
STATUS:CONFIRMED
END:VEVENT
END:VCALENDAR
