BEGIN:VCALENDAR
VERSION:2.0
PRODID:-//StreamRadar//Match Calendar//EN
CALSCALE:GREGORIAN
METHOD:PUBLISH
X-WR-CALNAME:Roskilde vs AB
X-WR-TIMEZONE:America/New_York
BEGIN:VEVENT
UID:match-5612728@streamradar.soccer
SUMMARY:Roskilde vs AB
DTSTAMP:20260421T071328Z
DTSTART;TZID=America/New_York:20260501T130000
DTEND;TZID=America/New_York:20260501T150000
DESCRIPTION:Gdzie oglądać Roskilde vs AB w Dania - Duńska 2. division. T
 ransmisja na żywo i program TV.\nhttps://streamradar.soccer/pl/match/56127
 28/roskilde-vs-ab/
URL;VALUE=URI:https://streamradar.soccer/pl/match/5612728/roskilde-vs-ab/
STATUS:CONFIRMED
END:VEVENT
END:VCALENDAR
