BEGIN:VCALENDAR
VERSION:2.0
PRODID:-//StreamRadar//Match Calendar//EN
CALSCALE:GREGORIAN
METHOD:PUBLISH
X-WR-CALNAME:Næstved vs Roskilde
X-WR-TIMEZONE:America/New_York
BEGIN:VEVENT
UID:match-5612722@streamradar.soccer
SUMMARY:Næstved vs Roskilde
DTSTAMP:20260421T104027Z
DTSTART;TZID=America/New_York:20260417T130000
DTEND;TZID=America/New_York:20260417T150000
LOCATION:Tintshop Park (Næstved)
DESCRIPTION:Gdzie oglądać Næstved vs Roskilde w Dania - Duńska 2. divis
 ion. Transmisja na żywo i program TV.\nhttps://streamradar.soccer/pl/match
 /5612722/nastved-vs-roskilde/
URL;VALUE=URI:https://streamradar.soccer/pl/match/5612722/nastved-vs-roskil
 de/
STATUS:CONFIRMED
END:VEVENT
END:VCALENDAR
