BEGIN:VCALENDAR
VERSION:2.0
PRODID:-//StreamRadar//Match Calendar//EN
CALSCALE:GREGORIAN
METHOD:PUBLISH
X-WR-CALNAME:Pietà Hotspurs vs St. Andrews
X-WR-TIMEZONE:America/New_York
BEGIN:VEVENT
UID:match-5612317@streamradar.soccer
SUMMARY:Pietà Hotspurs vs St. Andrews
DTSTAMP:20260421T104340Z
DTSTART;TZID=America/New_York:20260419T114500
DTEND;TZID=America/New_York:20260419T134500
LOCATION:Centenary Stadium
DESCRIPTION:Gdzie oglądać Pietà Hotspurs vs St. Andrews w Malta - Challe
 nge League. Transmisja na żywo i program TV.\nhttps://streamradar.soccer/p
 l/match/5612317/pieta-hotspurs-vs-st-andrews/
URL;VALUE=URI:https://streamradar.soccer/pl/match/5612317/pieta-hotspurs-vs
 -st-andrews/
STATUS:CONFIRMED
END:VEVENT
END:VCALENDAR
