BEGIN:VCALENDAR
VERSION:2.0
PRODID:-//StreamRadar//Match Calendar//EN
CALSCALE:GREGORIAN
METHOD:PUBLISH
X-WR-CALNAME:Radnički Niš vs Javor Ivanjica
X-WR-TIMEZONE:America/New_York
BEGIN:VEVENT
UID:match-5612198@streamradar.soccer
SUMMARY:Radnički Niš vs Javor Ivanjica
DTSTAMP:20260420T121036Z
DTSTART;TZID=America/New_York:20260423T100000
DTEND;TZID=America/New_York:20260423T120000
LOCATION:Gradski Stadion Čair (Niš)
DESCRIPTION:Gdzie oglądać Radnički Niš vs Javor Ivanjica w Serbia - Sup
 er Liga. Transmisja na żywo i program TV.\nhttps://streamradar.soccer/pl/m
 atch/5612198/radnicki-nis-vs-javor-ivanjica/
URL;VALUE=URI:https://streamradar.soccer/pl/match/5612198/radnicki-nis-vs-j
 avor-ivanjica/
STATUS:CONFIRMED
END:VEVENT
END:VCALENDAR
