BEGIN:VCALENDAR
VERSION:2.0
PRODID:-//StreamRadar//Match Calendar//EN
CALSCALE:GREGORIAN
METHOD:PUBLISH
X-WR-CALNAME:Dinamo Vologda vs Murom
X-WR-TIMEZONE:America/New_York
BEGIN:VEVENT
UID:match-5611576@streamradar.soccer
SUMMARY:Dinamo Vologda vs Murom
DTSTAMP:20260421T092953Z
DTSTART;TZID=America/New_York:20260510T090000
DTEND;TZID=America/New_York:20260510T110000
DESCRIPTION:Gdzie oglądać Dinamo Vologda vs Murom w Rosja - FNL 2. Transm
 isja na żywo i program TV.\nhttps://streamradar.soccer/pl/match/5611576/di
 namo-vologda-vs-murom/
URL;VALUE=URI:https://streamradar.soccer/pl/match/5611576/dinamo-vologda-vs
 -murom/
STATUS:CONFIRMED
END:VEVENT
END:VCALENDAR
