BEGIN:VCALENDAR
VERSION:2.0
PRODID:-//StreamRadar//Match Calendar//EN
CALSCALE:GREGORIAN
METHOD:PUBLISH
X-WR-CALNAME:Shabana vs Ulinzi Stars
X-WR-TIMEZONE:America/New_York
BEGIN:VEVENT
UID:match-5611452@streamradar.soccer
SUMMARY:Shabana vs Ulinzi Stars
DTSTAMP:20260421T055040Z
DTSTART;TZID=America/New_York:20260509T070000
DTEND;TZID=America/New_York:20260509T090000
DESCRIPTION:Gdzie oglądać Shabana vs Ulinzi Stars w Kenyan Premier League
 . Transmisja na żywo i program TV.\nhttps://streamradar.soccer/pl/match/56
 11452/shabana-vs-ulinzi-stars/
URL;VALUE=URI:https://streamradar.soccer/pl/match/5611452/shabana-vs-ulinzi
 -stars/
STATUS:CONFIRMED
END:VEVENT
END:VCALENDAR
