BEGIN:VCALENDAR
VERSION:2.0
PRODID:-//StreamRadar//Match Calendar//EN
CALSCALE:GREGORIAN
METHOD:PUBLISH
X-WR-CALNAME:Santana vs Timisul Sag
X-WR-TIMEZONE:America/New_York
BEGIN:VEVENT
UID:match-5610838@streamradar.soccer
SUMMARY:Santana vs Timisul Sag
DTSTAMP:20260421T080141Z
DTSTART;TZID=America/New_York:20260509T110000
DTEND;TZID=America/New_York:20260509T130000
DESCRIPTION:Gdzie oglądać Santana vs Timisul Sag w Rumunia - Liga III. Tr
 ansmisja na żywo i program TV.\nhttps://streamradar.soccer/pl/match/561083
 8/santana-vs-timisul-sag/
URL;VALUE=URI:https://streamradar.soccer/pl/match/5610838/santana-vs-timisu
 l-sag/
STATUS:CONFIRMED
END:VEVENT
END:VCALENDAR
