BEGIN:VCALENDAR
VERSION:2.0
PRODID:-//StreamRadar//Match Calendar//EN
CALSCALE:GREGORIAN
METHOD:PUBLISH
X-WR-CALNAME:União Rondonópolis vs Goiatuba EC
X-WR-TIMEZONE:America/New_York
BEGIN:VEVENT
UID:match-5610743@streamradar.soccer
SUMMARY:União Rondonópolis vs Goiatuba EC
DTSTAMP:20260421T080848Z
DTSTART;TZID=America/New_York:20260509T160000
DTEND;TZID=America/New_York:20260509T180000
LOCATION:Municipal Stadium Engineer Luthero Lopes
DESCRIPTION:Gdzie oglądać União Rondonópolis vs Goiatuba EC w Brazylia 
 - Serie D w Brazylii. Transmisja na żywo i program TV.\nhttps://streamrada
 r.soccer/pl/match/5610743/uniao-rondonopolis-vs-goiatuba-ec/
URL;VALUE=URI:https://streamradar.soccer/pl/match/5610743/uniao-rondonopoli
 s-vs-goiatuba-ec/
STATUS:CONFIRMED
END:VEVENT
END:VCALENDAR
