BEGIN:VCALENDAR
VERSION:2.0
PRODID:-//StreamRadar//Match Calendar//EN
CALSCALE:GREGORIAN
METHOD:PUBLISH
X-WR-CALNAME:Sergipe vs Retrô
X-WR-TIMEZONE:America/New_York
BEGIN:VEVENT
UID:match-5610738@streamradar.soccer
SUMMARY:Sergipe vs Retrô
DTSTAMP:20260421T062044Z
DTSTART;TZID=America/New_York:20260509T160000
DTEND;TZID=America/New_York:20260509T180000
DESCRIPTION:Gdzie oglądać Sergipe vs Retrô w Brazylia - Serie D w Brazyl
 ii. Transmisja na żywo i program TV.\nhttps://streamradar.soccer/pl/match/
 5610738/sergipe-vs-retro/
URL;VALUE=URI:https://streamradar.soccer/pl/match/5610738/sergipe-vs-retro/
STATUS:CONFIRMED
END:VEVENT
END:VCALENDAR
