BEGIN:VCALENDAR
VERSION:2.0
PRODID:-//StreamRadar//Match Calendar//EN
CALSCALE:GREGORIAN
METHOD:PUBLISH
X-WR-CALNAME:Pouso Alegre vs América RJ
X-WR-TIMEZONE:America/New_York
BEGIN:VEVENT
UID:match-5610735@streamradar.soccer
SUMMARY:Pouso Alegre vs América RJ
DTSTAMP:20260421T080816Z
DTSTART;TZID=America/New_York:20260509T160000
DTEND;TZID=America/New_York:20260509T180000
LOCATION:Estadio Do Manduzao
DESCRIPTION:Gdzie oglądać Pouso Alegre vs América RJ w Brazylia - Serie 
 D w Brazylii. Transmisja na żywo i program TV.\nhttps://streamradar.soccer
 /pl/match/5610735/pouso-alegre-vs-america-rj/
URL;VALUE=URI:https://streamradar.soccer/pl/match/5610735/pouso-alegre-vs-a
 merica-rj/
STATUS:CONFIRMED
END:VEVENT
END:VCALENDAR
