BEGIN:VCALENDAR
VERSION:2.0
PRODID:-//StreamRadar//Match Calendar//EN
CALSCALE:GREGORIAN
METHOD:PUBLISH
X-WR-CALNAME:XV de Piracicaba vs Sampaio Corrêa RJ
X-WR-TIMEZONE:America/New_York
BEGIN:VEVENT
UID:match-5610731@streamradar.soccer
SUMMARY:XV de Piracicaba vs Sampaio Corrêa RJ
DTSTAMP:20260421T063607Z
DTSTART;TZID=America/New_York:20260509T160000
DTEND;TZID=America/New_York:20260509T180000
LOCATION:Estadio Municipal Barao de Serra Negra
DESCRIPTION:Gdzie oglądać XV De Piracicaba vs Sampaio Corrêa RJ w Brazyl
 ia - Serie D w Brazylii. Transmisja na żywo i program TV.\nhttps://streamr
 adar.soccer/pl/match/5610731/xv-de-piracicaba-vs-sampaio-correa-rj/
URL;VALUE=URI:https://streamradar.soccer/pl/match/5610731/xv-de-piracicaba-
 vs-sampaio-correa-rj/
STATUS:CONFIRMED
END:VEVENT
END:VCALENDAR
