BEGIN:VCALENDAR
VERSION:2.0
PRODID:-//StreamRadar//Match Calendar//EN
CALSCALE:GREGORIAN
METHOD:PUBLISH
X-WR-CALNAME:Madureira vs Portuguesa
X-WR-TIMEZONE:America/New_York
BEGIN:VEVENT
UID:match-5610722@streamradar.soccer
SUMMARY:Madureira vs Portuguesa
DTSTAMP:20260421T063112Z
DTSTART;TZID=America/New_York:20260509T160000
DTEND;TZID=America/New_York:20260509T180000
LOCATION:Estadio Conselheiro Galvao
DESCRIPTION:Gdzie oglądać Madureira vs Portuguesa w Brazylia - Serie D w 
 Brazylii. Transmisja na żywo i program TV.\nhttps://streamradar.soccer/pl/
 match/5610722/madureira-vs-portuguesa/
URL;VALUE=URI:https://streamradar.soccer/pl/match/5610722/madureira-vs-port
 uguesa/
STATUS:CONFIRMED
END:VEVENT
END:VCALENDAR
