BEGIN:VCALENDAR
VERSION:2.0
PRODID:-//StreamRadar//Match Calendar//EN
CALSCALE:GREGORIAN
METHOD:PUBLISH
X-WR-CALNAME:Luverdense vs Gama
X-WR-TIMEZONE:America/New_York
BEGIN:VEVENT
UID:match-5610721@streamradar.soccer
SUMMARY:Luverdense vs Gama
DTSTAMP:20260421T062023Z
DTSTART;TZID=America/New_York:20260509T160000
DTEND;TZID=America/New_York:20260509T180000
LOCATION:Passo das Emas
DESCRIPTION:Gdzie oglądać Luverdense vs Gama w Brazylia - Serie D w Brazy
 lii. Transmisja na żywo i program TV.\nhttps://streamradar.soccer/pl/match
 /5610721/luverdense-vs-gama/
URL;VALUE=URI:https://streamradar.soccer/pl/match/5610721/luverdense-vs-gam
 a/
STATUS:CONFIRMED
END:VEVENT
END:VCALENDAR
