BEGIN:VCALENDAR
VERSION:2.0
PRODID:-//StreamRadar//Match Calendar//EN
CALSCALE:GREGORIAN
METHOD:PUBLISH
X-WR-CALNAME:Iguatu vs Moto Club MA
X-WR-TIMEZONE:America/New_York
BEGIN:VEVENT
UID:match-5610714@streamradar.soccer
SUMMARY:Iguatu vs Moto Club MA
DTSTAMP:20260421T080844Z
DTSTART;TZID=America/New_York:20260509T160000
DTEND;TZID=America/New_York:20260509T180000
LOCATION:Estadio Antonio Moreno de Mello
DESCRIPTION:Gdzie oglądać Iguatu vs Moto Club MA w Brazylia - Serie D w B
 razylii. Transmisja na żywo i program TV.\nhttps://streamradar.soccer/pl/m
 atch/5610714/iguatu-vs-moto-club-ma/
URL;VALUE=URI:https://streamradar.soccer/pl/match/5610714/iguatu-vs-moto-cl
 ub-ma/
STATUS:CONFIRMED
END:VEVENT
END:VCALENDAR
