BEGIN:VCALENDAR
VERSION:2.0
PRODID:-//StreamRadar//Match Calendar//EN
CALSCALE:GREGORIAN
METHOD:PUBLISH
X-WR-CALNAME:Águia de Marabá vs Oratório
X-WR-TIMEZONE:America/New_York
BEGIN:VEVENT
UID:match-5610698@streamradar.soccer
SUMMARY:Águia de Marabá vs Oratório
DTSTAMP:20260421T062209Z
DTSTART;TZID=America/New_York:20260509T160000
DTEND;TZID=America/New_York:20260509T180000
LOCATION:Estadio Municipal Zinho de Oliveira
DESCRIPTION:Gdzie oglądać Águia De Marabá vs Oratório w Brazylia - Ser
 ie D w Brazylii. Transmisja na żywo i program TV.\nhttps://streamradar.soc
 cer/pl/match/5610698/aguia-de-maraba-vs-oratorio/
URL;VALUE=URI:https://streamradar.soccer/pl/match/5610698/aguia-de-maraba-v
 s-oratorio/
STATUS:CONFIRMED
END:VEVENT
END:VCALENDAR
