BEGIN:VCALENDAR
VERSION:2.0
PRODID:-//StreamRadar//Match Calendar//EN
CALSCALE:GREGORIAN
METHOD:PUBLISH
X-WR-CALNAME:FAP vs Borac Čačak
X-WR-TIMEZONE:America/New_York
BEGIN:VEVENT
UID:match-5609521@streamradar.soccer
SUMMARY:FAP vs Borac Čačak
DTSTAMP:20260421T062038Z
DTSTART;TZID=America/New_York:20260502T110000
DTEND;TZID=America/New_York:20260502T130000
LOCATION:Gradski stadion
DESCRIPTION:Gdzie oglądać FAP vs Borac Čačak w Serbia - Prva Liga Serbi
 i. Transmisja na żywo i program TV.\nhttps://streamradar.soccer/pl/match/5
 609521/fap-vs-borac-cacak/
URL;VALUE=URI:https://streamradar.soccer/pl/match/5609521/fap-vs-borac-caca
 k/
STATUS:CONFIRMED
END:VEVENT
END:VCALENDAR
