BEGIN:VCALENDAR
VERSION:2.0
PRODID:-//StreamRadar//Match Calendar//EN
CALSCALE:GREGORIAN
METHOD:PUBLISH
X-WR-CALNAME:Al Jazeera vs Al Salt
X-WR-TIMEZONE:America/New_York
BEGIN:VEVENT
UID:match-5609437@streamradar.soccer
SUMMARY:Al Jazeera vs Al Salt
DTSTAMP:20260421T084138Z
DTSTART;TZID=America/New_York:20260507T120000
DTEND;TZID=America/New_York:20260507T140000
DESCRIPTION:Gdzie oglądać Al Jazeera vs Al Salt w Jordan League. Transmis
 ja na żywo i program TV.\nhttps://streamradar.soccer/pl/match/5609437/al-j
 azeera-vs-al-salt/
URL;VALUE=URI:https://streamradar.soccer/pl/match/5609437/al-jazeera-vs-al-
 salt/
STATUS:CONFIRMED
END:VEVENT
END:VCALENDAR
