BEGIN:VCALENDAR
VERSION:2.0
PRODID:-//StreamRadar//Match Calendar//EN
CALSCALE:GREGORIAN
METHOD:PUBLISH
X-WR-CALNAME:Dunarea Giurgiu vs Curtisoara
X-WR-TIMEZONE:America/New_York
BEGIN:VEVENT
UID:match-5608438@streamradar.soccer
SUMMARY:Dunarea Giurgiu vs Curtisoara
DTSTAMP:20260421T092859Z
DTSTART;TZID=America/New_York:20260501T110000
DTEND;TZID=America/New_York:20260501T130000
DESCRIPTION:Gdzie oglądać Dunarea Giurgiu vs Curtisoara w Rumunia - Liga 
 III. Transmisja na żywo i program TV.\nhttps://streamradar.soccer/pl/match
 /5608438/dunarea-giurgiu-vs-curtisoara/
URL;VALUE=URI:https://streamradar.soccer/pl/match/5608438/dunarea-giurgiu-v
 s-curtisoara/
STATUS:CONFIRMED
END:VEVENT
END:VCALENDAR
