BEGIN:VCALENDAR
VERSION:2.0
PRODID:-//StreamRadar//Match Calendar//EN
CALSCALE:GREGORIAN
METHOD:PUBLISH
X-WR-CALNAME:Râmnicu Sărat vs Petrolul 52 II
X-WR-TIMEZONE:America/New_York
BEGIN:VEVENT
UID:match-5608420@streamradar.soccer
SUMMARY:Râmnicu Sărat vs Petrolul 52 II
DTSTAMP:20260421T055035Z
DTSTART;TZID=America/New_York:20260424T100000
DTEND;TZID=America/New_York:20260424T120000
LOCATION:Stadionul Olimpia (Râmnicu Sărat)
DESCRIPTION:Gdzie oglądać Râmnicu Sărat vs Petrolul 52 II w Rumunia - L
 iga III. Transmisja na żywo i program TV.\nhttps://streamradar.soccer/pl/m
 atch/5608420/ramnicu-s-rat-vs-petrolul-52-ii/
URL;VALUE=URI:https://streamradar.soccer/pl/match/5608420/ramnicu-s-rat-vs-
 petrolul-52-ii/
STATUS:CONFIRMED
END:VEVENT
END:VCALENDAR
