BEGIN:VCALENDAR
VERSION:2.0
PRODID:-//StreamRadar//Match Calendar//EN
CALSCALE:GREGORIAN
METHOD:PUBLISH
X-WR-CALNAME:Victoria Hamburg vs Niendorfer TSV
X-WR-TIMEZONE:America/New_York
BEGIN:VEVENT
UID:match-5608358@streamradar.soccer
SUMMARY:Victoria Hamburg vs Niendorfer TSV
DTSTAMP:20260421T085453Z
DTSTART;TZID=America/New_York:20260505T130000
DTEND;TZID=America/New_York:20260505T150000
DESCRIPTION:Gdzie oglądać Victoria Hamburg vs Niendorfer TSV w Niemcy - O
 berliga. Transmisja na żywo i program TV.\nhttps://streamradar.soccer/pl/m
 atch/5608358/victoria-hamburg-vs-niendorfer-tsv/
URL;VALUE=URI:https://streamradar.soccer/pl/match/5608358/victoria-hamburg-
 vs-niendorfer-tsv/
STATUS:CONFIRMED
END:VEVENT
END:VCALENDAR
